BEGIN:VCALENDAR
VERSION:2.0
PRODID:-//wp-events-plugin.com//7.2.3.1//EN
TZID:Europe/Berlin
X-WR-TIMEZONE:Europe/Berlin
BEGIN:VEVENT
UID:1275@bsv-wesel.de
DTSTART;TZID=Europe/Berlin:20250503T100000
DTEND;TZID=Europe/Berlin:20250503T100000
DTSTAMP:20250325T072456Z
URL:https://www.bsv-wesel.de/events/wandertag-4/
SUMMARY:Wandertag
DESCRIPTION:
CATEGORIES:2. Kompanie
END:VEVENT
BEGIN:VTIMEZONE
TZID:Europe/Berlin
X-LIC-LOCATION:Europe/Berlin
BEGIN:DAYLIGHT
DTSTART:20250330T030000
TZOFFSETFROM:+0100
TZOFFSETTO:+0200
TZNAME:CEST
END:DAYLIGHT
END:VTIMEZONE
END:VCALENDAR