BEGIN:VCALENDAR
VERSION:2.0
PRODID:-//wp-events-plugin.com//7.2.3.1//EN
TZID:Europe/Berlin
X-WR-TIMEZONE:Europe/Berlin
BEGIN:VEVENT
UID:1353@bsv-wesel.de
DTSTART;TZID=Europe/Berlin:20260707T180000
DTEND;TZID=Europe/Berlin:20260707T180000
DTSTAMP:20251230T100904Z
URL:https://www.bsv-wesel.de/events/vorstandssitzung-2-2026-01-06-2026-02-
 03-2026-03-03-2026-04-07-2026-05-05-2026-06-02-2026-07-07/
SUMMARY:Vorstandssitzung
DESCRIPTION:
CATEGORIES:Bürger-Schützen-Verein
LOCATION:Bürger-Schützen-Haus\, An de Tent 9\, Wesel\, NRW\, 46485\, Deut
 schland
X-APPLE-STRUCTURED-LOCATION;VALUE=URI;X-ADDRESS=An de Tent 9\, Wesel\, NRW\
 , 46485\, Deutschland;X-APPLE-RADIUS=100;X-TITLE=Bürger-Schützen-Haus:ge
 o:0,0
END:VEVENT
BEGIN:VTIMEZONE
TZID:Europe/Berlin
X-LIC-LOCATION:Europe/Berlin
BEGIN:DAYLIGHT
DTSTART:20260329T030000
TZOFFSETFROM:+0100
TZOFFSETTO:+0200
TZNAME:CEST
END:DAYLIGHT
END:VTIMEZONE
END:VCALENDAR