BEGIN:VCALENDAR
VERSION:2.0
PRODID:-//wp-events-plugin.com//7.2.3.1//EN
TZID:Europe/Berlin
X-WR-TIMEZONE:Europe/Berlin
BEGIN:VEVENT
UID:654@bsv-wesel.de
DTSTART;TZID=Europe/Berlin:20240824T193000
DTEND;TZID=Europe/Berlin:20240824T235900
DTSTAMP:20240401T200939Z
URL:https://www.bsv-wesel.de/events/untersuchungsabend-2/
SUMMARY:Untersuchungsabend
DESCRIPTION:
CATEGORIES:Reiterzug
END:VEVENT
BEGIN:VTIMEZONE
TZID:Europe/Berlin
X-LIC-LOCATION:Europe/Berlin
BEGIN:DAYLIGHT
DTSTART:20240331T030000
TZOFFSETFROM:+0100
TZOFFSETTO:+0200
TZNAME:CEST
END:DAYLIGHT
END:VTIMEZONE
END:VCALENDAR