BEGIN:VCALENDAR
VERSION:2.0
PRODID:-//wp-events-plugin.com//7.2.3.1//EN
TZID:Europe/Berlin
X-WR-TIMEZONE:Europe/Berlin
BEGIN:VEVENT
UID:1436@bsv-wesel.de
DTSTART;TZID=Europe/Berlin:20261216T191500
DTEND;TZID=Europe/Berlin:20261216T210000
DTSTAMP:20251230T101252Z
URL:https://www.bsv-wesel.de/events/uebungsschiessen-9-2026-01-21-2026-02-
 18-2026-03-18-2026-04-15-2026-05-20-2026-06-17-2026-07-15-2026-08-19-2026-
 09-16-2026-10-21-2026-11-18-2026-12-16/
SUMMARY:Übungsschießen
DESCRIPTION:
CATEGORIES:3. Kompanie
LOCATION:Bürger-Schützen-Haus\, An de Tent 9\, Wesel\, NRW\, 46485\, Deut
 schland
X-APPLE-STRUCTURED-LOCATION;VALUE=URI;X-ADDRESS=An de Tent 9\, Wesel\, NRW\
 , 46485\, Deutschland;X-APPLE-RADIUS=100;X-TITLE=Bürger-Schützen-Haus:ge
 o:0,0
END:VEVENT
BEGIN:VTIMEZONE
TZID:Europe/Berlin
X-LIC-LOCATION:Europe/Berlin
BEGIN:STANDARD
DTSTART:20261025T020000
TZOFFSETFROM:+0200
TZOFFSETTO:+0100
TZNAME:CET
END:STANDARD
END:VTIMEZONE
END:VCALENDAR