BEGIN:VCALENDAR
VERSION:2.0
PRODID:-//wp-events-plugin.com//7.2.3.1//EN
TZID:Europe/Berlin
X-WR-TIMEZONE:Europe/Berlin
BEGIN:VEVENT
UID:1474@bsv-wesel.de
DTSTART;TZID=Europe/Berlin:20261222T173000
DTEND;TZID=Europe/Berlin:20261222T183000
DTSTAMP:20251230T101712Z
URL:https://www.bsv-wesel.de/events/uebungsschiessen-10-2026-01-27-2026-02
 -24-2026-03-24-2026-04-28-2026-05-26-2026-06-23-2026-07-28-2026-08-25-2026
 -09-22-2026-10-27-2026-11-24-2026-12-22/
SUMMARY:Übungsschießen
DESCRIPTION:
CATEGORIES:4. Kompanie
LOCATION:Bürger-Schützen-Haus\, An de Tent 9\, Wesel\, NRW\, 46485\, Deut
 schland
X-APPLE-STRUCTURED-LOCATION;VALUE=URI;X-ADDRESS=An de Tent 9\, Wesel\, NRW\
 , 46485\, Deutschland;X-APPLE-RADIUS=100;X-TITLE=Bürger-Schützen-Haus:ge
 o:0,0
END:VEVENT
BEGIN:VTIMEZONE
TZID:Europe/Berlin
X-LIC-LOCATION:Europe/Berlin
BEGIN:STANDARD
DTSTART:20261025T020000
TZOFFSETFROM:+0200
TZOFFSETTO:+0100
TZNAME:CET
END:STANDARD
END:VTIMEZONE
END:VCALENDAR