BEGIN:VCALENDAR
VERSION:2.0
PRODID:-//wp-events-plugin.com//7.2.3.1//EN
TZID:Europe/Berlin
X-WR-TIMEZONE:Europe/Berlin
BEGIN:VEVENT
UID:1411@bsv-wesel.de
DTSTART;TZID=Europe/Berlin:20261229T190000
DTEND;TZID=Europe/Berlin:20261229T190000
DTSTAMP:20251230T101046Z
URL:https://www.bsv-wesel.de/events/stammtisch-3-2026-01-06-2026-01-13-202
 6-01-20-2026-01-27-2026-02-03-2026-02-10-2026-02-17-2026-02-24-2026-03-03-
 2026-03-10-2026-03-17-2026-03-24-2026-03-31-2026-04-07-2026-04-14-2026-04-
 22-2026-12-29/
SUMMARY:Stammtisch
DESCRIPTION:
CATEGORIES:2. Kompanie
LOCATION:Bürger-Schützen-Haus\, An de Tent 9\, Wesel\, NRW\, 46485\, Deut
 schland
X-APPLE-STRUCTURED-LOCATION;VALUE=URI;X-ADDRESS=An de Tent 9\, Wesel\, NRW\
 , 46485\, Deutschland;X-APPLE-RADIUS=100;X-TITLE=Bürger-Schützen-Haus:ge
 o:0,0
END:VEVENT
BEGIN:VTIMEZONE
TZID:Europe/Berlin
X-LIC-LOCATION:Europe/Berlin
BEGIN:STANDARD
DTSTART:20261025T020000
TZOFFSETFROM:+0200
TZOFFSETTO:+0100
TZNAME:CET
END:STANDARD
END:VTIMEZONE
END:VCALENDAR