BEGIN:VCALENDAR
VERSION:2.0
PRODID:-//wp-events-plugin.com//7.2.3.1//EN
TZID:Europe/Berlin
X-WR-TIMEZONE:Europe/Berlin
BEGIN:VEVENT
UID:1665@bsv-wesel.de
DTSTART;TZID=Europe/Berlin:20260805T163000
DTEND;TZID=Europe/Berlin:20260805T190000
DTSTAMP:20251230T102729Z
URL:https://www.bsv-wesel.de/events/schiessen-mit-luftdruckwaffen-2026-08-
 05/
SUMMARY:Schießen (Luftdruckwaffen)
DESCRIPTION:
CATEGORIES:Schiesssportabteilung
LOCATION:Schießstand Fusternberg\, An d. Rundsporthalle 10\, Wesel\, NRW\,
  46485\, Deutschland
X-APPLE-STRUCTURED-LOCATION;VALUE=URI;X-ADDRESS=An d. Rundsporthalle 10\, W
 esel\, NRW\, 46485\, Deutschland;X-APPLE-RADIUS=100;X-TITLE=Schießstand F
 usternberg:geo:0,0
END:VEVENT
BEGIN:VTIMEZONE
TZID:Europe/Berlin
X-LIC-LOCATION:Europe/Berlin
BEGIN:DAYLIGHT
DTSTART:20260329T030000
TZOFFSETFROM:+0100
TZOFFSETTO:+0200
TZNAME:CEST
END:DAYLIGHT
END:VTIMEZONE
END:VCALENDAR