BEGIN:VCALENDAR
VERSION:2.0
PRODID:-//wp-events-plugin.com//7.2.3.1//EN
TZID:Europe/Berlin
X-WR-TIMEZONE:Europe/Berlin
BEGIN:VEVENT
UID:867@bsv-wesel.de
DTSTART;TZID=Europe/Berlin:20251021T200000
DTEND;TZID=Europe/Berlin:20251021T200000
DTSTAMP:20241230T121307Z
URL:https://www.bsv-wesel.de/events/reiten-2-2025-10-21/
SUMMARY:Reiten
DESCRIPTION:
CATEGORIES:Reiterzug
LOCATION:Reitstall Alois Schweckhorst\, Lohstraße 28\, Rees-Haldern\, NRW\
 , 46459\, Deutschland
X-APPLE-STRUCTURED-LOCATION;VALUE=URI;X-ADDRESS=Lohstraße 28\, Rees-Halder
 n\, NRW\, 46459\, Deutschland;X-APPLE-RADIUS=100;X-TITLE=Reitstall Alois S
 chweckhorst:geo:0,0
END:VEVENT
BEGIN:VTIMEZONE
TZID:Europe/Berlin
X-LIC-LOCATION:Europe/Berlin
BEGIN:DAYLIGHT
DTSTART:20250330T030000
TZOFFSETFROM:+0100
TZOFFSETTO:+0200
TZNAME:CEST
END:DAYLIGHT
END:VTIMEZONE
END:VCALENDAR