BEGIN:VCALENDAR
VERSION:2.0
PRODID:-//wp-events-plugin.com//7.2.3.1//EN
TZID:Europe/Berlin
X-WR-TIMEZONE:Europe/Berlin
BEGIN:VEVENT
UID:1956@bsv-wesel.de
DTSTART;TZID=Europe/Berlin:20260914T180000
DTEND;TZID=Europe/Berlin:20260914T180000
DTSTAMP:20260418T201209Z
URL:https://www.bsv-wesel.de/events/nachlese-schuetzenwiese-nach-abbau-des
 -zeltes/
SUMMARY:Nachlese Schützenwiese nach Abbau des Zeltes
DESCRIPTION:
CATEGORIES:BSV Brüner Tor - 1. Kompanie,Bürger-Schützen-Verein
LOCATION:Paradewiese\, An de Tent 1\, Wesel\, NRW\, 46483\, Deutschland
X-APPLE-STRUCTURED-LOCATION;VALUE=URI;X-ADDRESS=An de Tent 1\, Wesel\, NRW\
 , 46483\, Deutschland;X-APPLE-RADIUS=100;X-TITLE=Paradewiese:geo:0,0
END:VEVENT
BEGIN:VTIMEZONE
TZID:Europe/Berlin
X-LIC-LOCATION:Europe/Berlin
BEGIN:DAYLIGHT
DTSTART:20260329T030000
TZOFFSETFROM:+0100
TZOFFSETTO:+0200
TZNAME:CEST
END:DAYLIGHT
END:VTIMEZONE
END:VCALENDAR