BEGIN:VCALENDAR
VERSION:2.0
PRODID:-//wp-events-plugin.com//7.2.3.1//EN
TZID:Europe/Berlin
X-WR-TIMEZONE:Europe/Berlin
BEGIN:VEVENT
UID:684@bsv-wesel.de
DTSTART;TZID=Europe/Berlin:20241109T190000
DTEND;TZID=Europe/Berlin:20241109T190000
DTSTAMP:20241031T055531Z
URL:https://www.bsv-wesel.de/events/kompanieabend/
SUMMARY:Kompanieabend
DESCRIPTION:
CATEGORIES:3. Kompanie
LOCATION:Saal Schepers\, Schermbecker Landstraße 120\, Wesel\, NRW\, 46485
 \, Deutschland
X-APPLE-STRUCTURED-LOCATION;VALUE=URI;X-ADDRESS=Schermbecker Landstraße 12
 0\, Wesel\, NRW\, 46485\, Deutschland;X-APPLE-RADIUS=100;X-TITLE=Saal Sche
 pers:geo:0,0
END:VEVENT
BEGIN:VTIMEZONE
TZID:Europe/Berlin
X-LIC-LOCATION:Europe/Berlin
BEGIN:STANDARD
DTSTART:20241027T020000
TZOFFSETFROM:+0200
TZOFFSETTO:+0100
TZNAME:CET
END:STANDARD
END:VTIMEZONE
END:VCALENDAR