BEGIN:VCALENDAR
VERSION:2.0
PRODID:-//wp-events-plugin.com//7.2.3.1//EN
TZID:Europe/Berlin
X-WR-TIMEZONE:Europe/Berlin
BEGIN:VEVENT
UID:606@bsv-wesel.de
DTSTART;TZID=Europe/Berlin:20240320T190000
DTEND;TZID=Europe/Berlin:20240320T235900
DTSTAMP:20240308T053325Z
URL:https://www.bsv-wesel.de/events/jahreshauptversammlung-schs-2024/
SUMMARY:Jahreshauptversammlung
DESCRIPTION:
CATEGORIES:Schiesssportabteilung
END:VEVENT
BEGIN:VTIMEZONE
TZID:Europe/Berlin
X-LIC-LOCATION:Europe/Berlin
BEGIN:STANDARD
DTSTART:20231029T020000
TZOFFSETFROM:+0200
TZOFFSETTO:+0100
TZNAME:CET
END:STANDARD
END:VTIMEZONE
END:VCALENDAR