BEGIN:VCALENDAR
VERSION:2.0
PRODID:-//wp-events-plugin.com//7.2.3.1//EN
TZID:Europe/Berlin
X-WR-TIMEZONE:Europe/Berlin
BEGIN:VEVENT
UID:1943@bsv-wesel.de
DTSTART;TZID=Europe/Berlin:20260829T193000
DTEND;TZID=Europe/Berlin:20260829T193000
DTSTAMP:20260418T195359Z
URL:https://www.bsv-wesel.de/events/heringsessen-9/
SUMMARY:Heringsessen
DESCRIPTION:
CATEGORIES:4. Kompanie
LOCATION:Ratskeller Wesel\, Klever-Tor-Platz 1\, Wesel\, NRW\, 46483\, Deut
 schland
X-APPLE-STRUCTURED-LOCATION;VALUE=URI;X-ADDRESS=Klever-Tor-Platz 1\, Wesel\
 , NRW\, 46483\, Deutschland;X-APPLE-RADIUS=100;X-TITLE=Ratskeller Wesel:ge
 o:0,0
END:VEVENT
BEGIN:VTIMEZONE
TZID:Europe/Berlin
X-LIC-LOCATION:Europe/Berlin
BEGIN:DAYLIGHT
DTSTART:20260329T030000
TZOFFSETFROM:+0100
TZOFFSETTO:+0200
TZNAME:CEST
END:DAYLIGHT
END:VTIMEZONE
END:VCALENDAR