BEGIN:VCALENDAR
VERSION:2.0
PRODID:-//wp-events-plugin.com//7.2.3.1//EN
TZID:Europe/Berlin
X-WR-TIMEZONE:Europe/Berlin
BEGIN:VEVENT
UID:1765@bsv-wesel.de
DTSTART;TZID=Europe/Berlin:20260514T200000
DTEND;TZID=Europe/Berlin:20260514T220000
DTSTAMP:20251230T103146Z
URL:https://www.bsv-wesel.de/events/gardetraining-2026-04-06-2026-04-09-20
 26-04-13-2026-04-16-2026-04-20-2026-04-23-2026-04-27-2026-04-30-2026-05-04
 -2026-05-07-2026-05-11-2026-05-14/
SUMMARY:Gardetraining
DESCRIPTION:
CATEGORIES:Prinzengarde
LOCATION:Sporthalle Ida-Noddack-Gesamtschule\, Martinistraße 12\, Wesel\, 
 NRW\, 46483 \, Deutschland
X-APPLE-STRUCTURED-LOCATION;VALUE=URI;X-ADDRESS=Martinistraße 12\, Wesel\,
  NRW\, 46483 \, Deutschland;X-APPLE-RADIUS=100;X-TITLE=Sporthalle Ida-Nodd
 ack-Gesamtschule:geo:0,0
END:VEVENT
BEGIN:VTIMEZONE
TZID:Europe/Berlin
X-LIC-LOCATION:Europe/Berlin
BEGIN:DAYLIGHT
DTSTART:20260329T030000
TZOFFSETFROM:+0100
TZOFFSETTO:+0200
TZNAME:CEST
END:DAYLIGHT
END:VTIMEZONE
END:VCALENDAR