BEGIN:VCALENDAR
VERSION:2.0
PRODID:-//wp-events-plugin.com//7.2.3.1//EN
TZID:Europe/Berlin
X-WR-TIMEZONE:Europe/Berlin
BEGIN:VEVENT
UID:1859@bsv-wesel.de
DTSTART;TZID=Europe/Berlin:20261031T143000
DTEND;TZID=Europe/Berlin:20261031T163000
DTSTAMP:20251230T103301Z
URL:https://www.bsv-wesel.de/events/gardetraining-2-2026-04-11-2026-04-18-
 2026-04-25-2026-05-02-2026-05-09-2026-05-16-2026-05-23-2026-05-30-2026-06-
 06-2026-06-13-2026-06-20-2026-06-27-2026-07-04-2026-07-11-2026-07-18-2026-
 24-2026-10-31/
SUMMARY:Gardetraining
DESCRIPTION:
CATEGORIES:Prinzengarde
LOCATION:Sporthalle an der Neustraße\, Neustraße\, Wesel\, NRW\, 46483\, 
 Deutschland
X-APPLE-STRUCTURED-LOCATION;VALUE=URI;X-ADDRESS=Neustraße\, Wesel\, NRW\, 
 46483\, Deutschland;X-APPLE-RADIUS=100;X-TITLE=Sporthalle an der Neustraß
 e:geo:0,0
END:VEVENT
BEGIN:VTIMEZONE
TZID:Europe/Berlin
X-LIC-LOCATION:Europe/Berlin
BEGIN:STANDARD
DTSTART:20261025T020000
TZOFFSETFROM:+0200
TZOFFSETTO:+0100
TZNAME:CET
END:STANDARD
END:VTIMEZONE
END:VCALENDAR