BEGIN:VCALENDAR
VERSION:2.0
PRODID:-//wp-events-plugin.com//7.2.3.1//EN
TZID:Europe/Berlin
X-WR-TIMEZONE:Europe/Berlin
BEGIN:VEVENT
UID:1164@bsv-wesel.de
DTSTART;TZID=Europe/Berlin:20251110T200000
DTEND;TZID=Europe/Berlin:20251110T220000
DTSTAMP:20241230T122637Z
URL:https://www.bsv-wesel.de/events/garde-training-4-2025-11-10/
SUMMARY:Garde-Training
DESCRIPTION:
CATEGORIES:Prinzengarde
LOCATION:Sporthalle Ida-Noddack-Gesamtschule\, Martinistraße 12\, Wesel\, 
 NRW\, 46483 \, Deutschland
X-APPLE-STRUCTURED-LOCATION;VALUE=URI;X-ADDRESS=Martinistraße 12\, Wesel\,
  NRW\, 46483 \, Deutschland;X-APPLE-RADIUS=100;X-TITLE=Sporthalle Ida-Nodd
 ack-Gesamtschule:geo:0,0
END:VEVENT
BEGIN:VTIMEZONE
TZID:Europe/Berlin
X-LIC-LOCATION:Europe/Berlin
BEGIN:STANDARD
DTSTART:20251026T020000
TZOFFSETFROM:+0200
TZOFFSETTO:+0100
TZNAME:CET
END:STANDARD
END:VTIMEZONE
END:VCALENDAR