BEGIN:VCALENDAR
VERSION:2.0
PRODID:-//wp-events-plugin.com//7.2.3.1//EN
TZID:Europe/Berlin
X-WR-TIMEZONE:Europe/Berlin
BEGIN:VEVENT
UID:317@bsv-wesel.de
DTSTART;TZID=Europe/Berlin:20231221T193000
DTEND;TZID=Europe/Berlin:20231221T213000
DTSTAMP:20221207T113726Z
URL:https://www.bsv-wesel.de/events/garde-training-2-2023-12-21/
SUMMARY:Garde-Training
DESCRIPTION:
CATEGORIES:Prinzengarde
LOCATION:Sporthalle Schill-Kaserne\, Bocholter Str. 6\, Wesel\, NRW\, 46487
 \, Deutschland
X-APPLE-STRUCTURED-LOCATION;VALUE=URI;X-ADDRESS=Bocholter Str. 6\, Wesel\, 
 NRW\, 46487\, Deutschland;X-APPLE-RADIUS=100;X-TITLE=Sporthalle Schill-Kas
 erne:geo:0,0
END:VEVENT
BEGIN:VTIMEZONE
TZID:Europe/Berlin
X-LIC-LOCATION:Europe/Berlin
BEGIN:STANDARD
DTSTART:20231029T020000
TZOFFSETFROM:+0200
TZOFFSETTO:+0100
TZNAME:CET
END:STANDARD
END:VTIMEZONE
END:VCALENDAR