BEGIN:VCALENDAR
VERSION:2.0
PRODID:-//wp-events-plugin.com//7.2.3.1//EN
TZID:Europe/Berlin
X-WR-TIMEZONE:Europe/Berlin
BEGIN:VEVENT
UID:1949@bsv-wesel.de
DTSTART;TZID=Europe/Berlin;VALUE=DATE:20260903
DTEND;TZID=Europe/Berlin;VALUE=DATE:20260907
DTSTAMP:20260418T200137Z
URL:https://www.bsv-wesel.de/events/das-grosse-weseler-schuetzenfest-gemei
 nsam-mit-dem-bsv-vorm-bruener-tor-1922/
SUMMARY:Das große Weseler Schützenfest gemeinsam mit dem BSV vor'm Brüne
 r Tor 1922
DESCRIPTION:
CATEGORIES:BSV Brüner Tor - 1. Kompanie,Bürger-Schützen-Verein
LOCATION:Festzelt an der Niederrheinhalle\, An de Tent 9\, Wesel\, NRW\, 46
 485\, Deutschland
X-APPLE-STRUCTURED-LOCATION;VALUE=URI;X-ADDRESS=An de Tent 9\, Wesel\, NRW\
 , 46485\, Deutschland;X-APPLE-RADIUS=100;X-TITLE=Festzelt an der Niederrhe
 inhalle:geo:0,0
END:VEVENT
BEGIN:VTIMEZONE
TZID:Europe/Berlin
X-LIC-LOCATION:Europe/Berlin
BEGIN:DAYLIGHT
DTSTART:20260329T030000
TZOFFSETFROM:+0100
TZOFFSETTO:+0200
TZNAME:CEST
END:DAYLIGHT
END:VTIMEZONE
END:VCALENDAR