BEGIN:VCALENDAR
VERSION:2.0
PRODID:-//wp-events-plugin.com//7.2.3.1//EN
TZID:Europe/Berlin
X-WR-TIMEZONE:Europe/Berlin
BEGIN:VEVENT
UID:1878@bsv-wesel.de
DTSTART;TZID=Europe/Berlin:20261114T100000
DTEND;TZID=Europe/Berlin:20261114T100000
DTSTAMP:20251230T103500Z
URL:https://www.bsv-wesel.de/events/anlagenpflege-2-2026-01-10-2026-02-14-
 2026-03-14-2026-04-11-2026-05-09-2026-06-13-2026-07-11-2026-08-08-2026-09-
 12-2026-10-10-2026-11-14/
SUMMARY:Anlagenpflege
DESCRIPTION:
CATEGORIES:Bürger-Schützen-Verein
LOCATION:Bürger-Schützen-Haus\, An de Tent 9\, Wesel\, NRW\, 46485\, Deut
 schland
X-APPLE-STRUCTURED-LOCATION;VALUE=URI;X-ADDRESS=An de Tent 9\, Wesel\, NRW\
 , 46485\, Deutschland;X-APPLE-RADIUS=100;X-TITLE=Bürger-Schützen-Haus:ge
 o:0,0
END:VEVENT
BEGIN:VTIMEZONE
TZID:Europe/Berlin
X-LIC-LOCATION:Europe/Berlin
BEGIN:STANDARD
DTSTART:20261025T020000
TZOFFSETFROM:+0200
TZOFFSETTO:+0100
TZNAME:CET
END:STANDARD
END:VTIMEZONE
END:VCALENDAR