BEGIN:VCALENDAR
VERSION:2.0
PRODID:-//wp-events-plugin.com//7.2.3.1//EN
TZID:Europe/Berlin
X-WR-TIMEZONE:Europe/Berlin
BEGIN:VEVENT
UID:1957@bsv-wesel.de
DTSTART;TZID=Europe/Berlin:20260918T180000
DTEND;TZID=Europe/Berlin:20260918T180000
DTSTAMP:20260418T201316Z
URL:https://www.bsv-wesel.de/events/abnehmen-wimpel-in-abspr-mit-dem-adjut
 anten/
SUMMARY:Abnehmen Wimpel in Abspr. mit dem Adjutanten
DESCRIPTION:
LOCATION:Kreisverkehr an der Niederrheinhalle\, An de Tent 1\, Wesel\, NRW\
 , 46483\, Deutschland
X-APPLE-STRUCTURED-LOCATION;VALUE=URI;X-ADDRESS=An de Tent 1\, Wesel\, NRW\
 , 46483\, Deutschland;X-APPLE-RADIUS=100;X-TITLE=Kreisverkehr an der Niede
 rrheinhalle:geo:0,0
END:VEVENT
BEGIN:VTIMEZONE
TZID:Europe/Berlin
X-LIC-LOCATION:Europe/Berlin
BEGIN:DAYLIGHT
DTSTART:20260329T030000
TZOFFSETFROM:+0100
TZOFFSETTO:+0200
TZNAME:CEST
END:DAYLIGHT
END:VTIMEZONE
END:VCALENDAR